BEGIN:VCALENDAR
VERSION:2.0
PRODID:-//Arts In Reach - ECPv6.15.20//NONSGML v1.0//EN
CALSCALE:GREGORIAN
METHOD:PUBLISH
X-WR-CALNAME:Arts In Reach
X-ORIGINAL-URL:https://artsinreach.org
X-WR-CALDESC:Events for Arts In Reach
REFRESH-INTERVAL;VALUE=DURATION:PT1H
X-Robots-Tag:noindex
X-PUBLISHED-TTL:PT1H
BEGIN:VTIMEZONE
TZID:UTC
BEGIN:STANDARD
TZOFFSETFROM:+0000
TZOFFSETTO:+0000
TZNAME:UTC
DTSTART:20220101T000000
END:STANDARD
END:VTIMEZONE
BEGIN:VEVENT
DTSTART;TZID=UTC:20230129T120000
DTEND;TZID=UTC:20230129T180000
DTSTAMP:20260420T043408
CREATED:20230106T233715Z
LAST-MODIFIED:20230106T234705Z
UID:10000390-1674993600-1675015200@artsinreach.org
SUMMARY:YOU ARE VALID! On Display at Wrong Brain
DESCRIPTION:Affirming Spaces Project and Arts In Reach are proud to present “YOU ARE VALID!”\, a community-built paper “quilt” of hand-written supportive messages for TGNC youth collected from NH Pride Events in 2022!\n\nThe quilt will be on display at Wrong Brain on Saturdays and Sundays from 12-6 PM\, January 7-29\, 2023.\n\nThe opening reception will be at Wrong Brain (66 Third Street\, Dover\, NH) from 2-5 PM. Please come view our collection of messages and add your own to the project!
URL:https://artsinreach.org/event/you-are-valid-on-display-at-wrong-brain/2023-01-29/
LOCATION:Wrong Brain\, 66 Third St Suite B1\, Dover\, NH\, 03820\, United States
ATTACH;FMTTYPE=image/png:https://artsinreach.org/wp-content/uploads/2023/01/blog-9.png
ORGANIZER;CN="Arts in Reach":MAILTO:info@artsinreach.org
END:VEVENT
BEGIN:VEVENT
DTSTART;TZID=UTC:20230107T140000
DTEND;TZID=UTC:20230107T170000
DTSTAMP:20260420T043408
CREATED:20230106T233415Z
LAST-MODIFIED:20230106T233646Z
UID:10000382-1673100000-1673110800@artsinreach.org
SUMMARY:YOU ARE VALID! Opening Reception
DESCRIPTION:Affirming Spaces Project and Arts In Reach are proud to present “YOU ARE VALID!”\, a community-built paper “quilt” of hand-written supportive messages for TGNC youth collected from NH Pride Events in 2022!\n\n\nThe quilt will be on display at Wrong Brain on Saturdays and Sundays from 12-6 PM\, January 7-29\, 2023.\n\n\nThe opening reception will be at Wrong Brain (66 Third Street\, Dover\, NH) from 2-5 PM. Please come view our collection of messages and add your own to the project!
URL:https://artsinreach.org/event/you-are-valid-opening-reception/
LOCATION:Wrong Brain\, 66 Third St Suite B1\, Dover\, NH\, 03820\, United States
ATTACH;FMTTYPE=image/png:https://artsinreach.org/wp-content/uploads/2023/01/blog-9.png
ORGANIZER;CN="Arts in Reach":MAILTO:info@artsinreach.org
END:VEVENT
END:VCALENDAR