BEGIN:VCALENDAR
VERSION:2.0
PRODID:-//Arts In Reach - ECPv6.15.20//NONSGML v1.0//EN
CALSCALE:GREGORIAN
METHOD:PUBLISH
X-ORIGINAL-URL:https://artsinreach.org
X-WR-CALDESC:Events for Arts In Reach
REFRESH-INTERVAL;VALUE=DURATION:PT1H
X-Robots-Tag:noindex
X-PUBLISHED-TTL:PT1H
BEGIN:VTIMEZONE
TZID:America/New_York
BEGIN:DAYLIGHT
TZOFFSETFROM:-0500
TZOFFSETTO:-0400
TZNAME:EDT
DTSTART:20240310T070000
END:DAYLIGHT
BEGIN:STANDARD
TZOFFSETFROM:-0400
TZOFFSETTO:-0500
TZNAME:EST
DTSTART:20241103T060000
END:STANDARD
BEGIN:DAYLIGHT
TZOFFSETFROM:-0500
TZOFFSETTO:-0400
TZNAME:EDT
DTSTART:20250309T070000
END:DAYLIGHT
BEGIN:STANDARD
TZOFFSETFROM:-0400
TZOFFSETTO:-0500
TZNAME:EST
DTSTART:20251102T060000
END:STANDARD
BEGIN:DAYLIGHT
TZOFFSETFROM:-0500
TZOFFSETTO:-0400
TZNAME:EDT
DTSTART:20260308T070000
END:DAYLIGHT
BEGIN:STANDARD
TZOFFSETFROM:-0400
TZOFFSETTO:-0500
TZNAME:EST
DTSTART:20261101T060000
END:STANDARD
END:VTIMEZONE
BEGIN:VEVENT
DTSTART;TZID=America/New_York:20250913T100000
DTEND;TZID=America/New_York:20250913T130000
DTSTAMP:20260421T182256
CREATED:20250708T022522Z
LAST-MODIFIED:20250708T022746Z
UID:10001817-1757757600-1757768400@artsinreach.org
SUMMARY:Open Studio Saturday
DESCRIPTION:Ages: 10 – 18 \n\n\n2nd Saturday of each month: September 13\, October 11\, and November 8 \n10:00 am – 1:00 pm at AIR HQ\, Durham\, NH \nDrop in\, get creative\, and make it your own. \nBring a project\, start something new\, grab a snack\, and chill with friends in a low-key\, art-friendly space. No pressure\, just good vibes and room to create. \nNOTE: There will be no AIR transportation for this event. \n\n—\nAbout AIR Programs:\n\n\nOpen to all teens ages 10-18 who feel like AIR is the right community for them. \n\n\nOpen to teens of all artistic abilities and skill levels. No prior experience is required! \n\n\nAIR is free of charge and provides transportation assistance to families in the Greater Seacoast area who need it to access these opportunities. \n\n\nLearn more and register at www.artsinreach.org/register \n\n\n—\nHow To Register\nVisit https://artsinreach.coursestorm.com/ to register online or print a physical registration form. \n—\nQuestions?\nContact programs@artsinreach.org or call 603-433-4278.
URL:https://artsinreach.org/event/open-studio-saturday/
LOCATION:Durham\, NH
CATEGORIES:AIR Artists,AIR Explorers,AIR Workshops,ArtVentures
ATTACH;FMTTYPE=image/png:https://artsinreach.org/wp-content/uploads/2025/07/5.png
ORGANIZER;CN="Arts in Reach":MAILTO:info@artsinreach.org
END:VEVENT
BEGIN:VEVENT
DTSTART;TZID=America/New_York:20250923T160000
DTEND;TZID=America/New_York:20250923T180000
DTSTAMP:20260421T182256
CREATED:20250708T013211Z
LAST-MODIFIED:20250708T014721Z
UID:10001612-1758643200-1758650400@artsinreach.org
SUMMARY:Buggin' Out
DESCRIPTION:Tuesdays\, September 23 – November 18\, 2025 \nNo program on Tuesday 11/11 \n4:00 pm – 6:00 pm \nThe Millspace\, Newmarket\, NH  \nOpen to middle schoolers \nNo bug spray needed—just your imagination! Over eight weeks\, we’ll explore the weird and wonderful world of bugs through art and design—creating fabric insects\, wearable wings\, layered papercrafts\, and stop motion animations. We’ll also visit Lamont Gallery in Exeter\, NH to explore their bug-themed exhibition. Artwork made in this program will be featured in the NH Art Association’s Fledgling Exhibition in 2026. Let your curiosity take flight as tiny inspirations grow into big-time\, bugged-out creations. \n—\nAbout AIR Programs:\n\n\nOpen to all teens ages 10-18 who feel like AIR is the right community for them. \n\n\nOpen to teens of all artistic abilities and skill levels. No prior experience is required! \n\n\nAIR is free of charge and provides transportation assistance to families in the Greater Seacoast area who need it to access these opportunities. \n\n\nLearn more and register at www.artsinreach.org/register \n\n\n—\nHow To Register\nVisit https://artsinreach.coursestorm.com/ to register online or print a physical registration form. \n—\nQuestions?\nContact programs@artsinreach.org or call 603-433-4278.
URL:https://artsinreach.org/event/buggin-out/2025-09-23/
LOCATION:Newmarket\, NH
CATEGORIES:ArtVentures
ATTACH;FMTTYPE=image/png:https://artsinreach.org/wp-content/uploads/2025/07/1.png
ORGANIZER;CN="Arts in Reach":MAILTO:info@artsinreach.org
END:VEVENT
BEGIN:VEVENT
DTSTART;TZID=America/New_York:20250923T160000
DTEND;TZID=America/New_York:20251118T180000
DTSTAMP:20260421T182256
CREATED:20260114T175443Z
LAST-MODIFIED:20260114T175519Z
UID:10001628-1758643200-1763488800@artsinreach.org
SUMMARY:Buggin' Out
DESCRIPTION:Tuesdays\, September 23 – November 18\, 2025 \nNo program on Tuesday 11/11 \n4:00 pm – 6:00 pm \nThe Millspace\, Newmarket\, NH  \nOpen to middle schoolers \nNo bug spray needed—just your imagination! Over eight weeks\, we’ll explore the weird and wonderful world of bugs through art and design—creating fabric insects\, wearable wings\, layered papercrafts\, and stop motion animations. We’ll also visit Lamont Gallery in Exeter\, NH to explore their bug-themed exhibition. Artwork made in this program will be featured in the NH Art Association’s Fledgling Exhibition in 2026. Let your curiosity take flight as tiny inspirations grow into big-time\, bugged-out creations. \n—\nAbout AIR Programs:\n\n\nOpen to all teens ages 10-18 who feel like AIR is the right community for them. \n\n\nOpen to teens of all artistic abilities and skill levels. No prior experience is required! \n\n\nAIR is free of charge and provides transportation assistance to families in the Greater Seacoast area who need it to access these opportunities. \n\n\nLearn more and register at www.artsinreach.org/register \n\n\n—\nHow To Register\nVisit https://artsinreach.coursestorm.com/ to register online or print a physical registration form. \n—\nQuestions?\nContact programs@artsinreach.org or call 603-433-4278.
URL:https://artsinreach.org/event/buggin-out-2/
LOCATION:Newmarket\, NH
CATEGORIES:ArtVentures
ATTACH;FMTTYPE=image/png:https://artsinreach.org/wp-content/uploads/2025/07/1.png
ORGANIZER;CN="Arts in Reach":MAILTO:info@artsinreach.org
END:VEVENT
BEGIN:VEVENT
DTSTART;TZID=America/New_York:20250924T160000
DTEND;TZID=America/New_York:20250924T180000
DTSTAMP:20260421T182256
CREATED:20250708T020958Z
LAST-MODIFIED:20250812T164849Z
UID:10001800-1758729600-1758736800@artsinreach.org
SUMMARY:Legendcraft: Questmakers
DESCRIPTION:Wednesdays\, September 24 – November 12\, 2025\n4:00 pm – 6:00 pm\nCommunity Campus\, Portsmouth\, NH\nOpen to high schoolers \nThe realm is yours to create. In Questmakers\, inspired by Dungeons & Dragons\, you’ll dream up epic worlds\, forge unforgettable characters\, and step into a live-action role-play adventure where your imagination leads the way. Build bold costumes\, bring massive creatures to life\, and map landscapes only you can imagine. Then\, jump into an immersive\, choose-your-own-adventure finale that puts you at the heart of the action. Your creations will be featured in an epic fantasy-themed window display at the NH Art Association in 2026\, making your story part of local legend. \n—\nAbout AIR Programs:\n\n\nOpen to all teens ages 10-18 who feel like AIR is the right community for them. \n\n\nOpen to teens of all artistic abilities and skill levels. No prior experience is required! \n\n\nAIR is free of charge and provides transportation assistance to families in the Greater Seacoast area who need it to access these opportunities. \n\n\nLearn more and register at www.artsinreach.org/register \n\n\n—\nHow To Register\nVisit https://artsinreach.coursestorm.com/ to register online or print a physical registration form. \n—\nQuestions?\nContact programs@artsinreach.org or call 603-433-4278.
URL:https://artsinreach.org/event/legendcraft-questmakers/2025-09-24/
LOCATION:Portsmouth\, NH
CATEGORIES:AIR Artists
ATTACH;FMTTYPE=image/png:https://artsinreach.org/wp-content/uploads/2025/07/2025-Fall-CourstormWebsite-Graphics-2.png
ORGANIZER;CN="Arts in Reach":MAILTO:info@artsinreach.org
END:VEVENT
BEGIN:VEVENT
DTSTART;TZID=America/New_York:20250925T160000
DTEND;TZID=America/New_York:20250925T180000
DTSTAMP:20260421T182256
CREATED:20250708T014610Z
LAST-MODIFIED:20250812T130531Z
UID:10001732-1758816000-1758823200@artsinreach.org
SUMMARY:Legendcraft
DESCRIPTION:Thursdays\, September 25 – November 13\, 2025 \n4:00 pm – 6:00 pm \nCommunity Campus\, Portsmouth\, NH \nOpen to middle schoolers \nStep into the story. In Legendcraft\, you’ll build a world\, become a character\, and dive into live-action role play through immersive creativity. Design larger-than-life creatures\, sketch mythic maps\, and craft bold costumes—then bring it all to life in a choose-your-own-adventure style production. Your fantasy artifacts will be featured in an epic\, fantasy-themed window display at the NH Art Association in 2026. Forge your own legend through art\, role play\, and adventure—this is world-building with no limits. \n—\nAbout AIR Programs:\n\n\nOpen to all teens ages 10-18 who feel like AIR is the right community for them. \n\n\nOpen to teens of all artistic abilities and skill levels. No prior experience is required! \n\n\nAIR is free of charge and provides transportation assistance to families in the Greater Seacoast area who need it to access these opportunities. \n\n\nLearn more and register at www.artsinreach.org/register \n\n\n—\nHow To Register\nVisit https://artsinreach.coursestorm.com/ to register online or print a physical registration form. \n—\nQuestions?\nContact programs@artsinreach.org or call 603-433-4278.
URL:https://artsinreach.org/event/legendcraft/2025-09-25/
LOCATION:Portsmouth\, NH
CATEGORIES:ArtVentures
ATTACH;FMTTYPE=image/png:https://artsinreach.org/wp-content/uploads/2025/07/2.png
ORGANIZER;CN="Arts in Reach":MAILTO:info@artsinreach.org
END:VEVENT
BEGIN:VEVENT
DTSTART;TZID=America/New_York:20250930T160000
DTEND;TZID=America/New_York:20250930T180000
DTSTAMP:20260421T182256
CREATED:20250708T013211Z
LAST-MODIFIED:20250708T014721Z
UID:10001613-1759248000-1759255200@artsinreach.org
SUMMARY:Buggin' Out
DESCRIPTION:Tuesdays\, September 23 – November 18\, 2025 \nNo program on Tuesday 11/11 \n4:00 pm – 6:00 pm \nThe Millspace\, Newmarket\, NH  \nOpen to middle schoolers \nNo bug spray needed—just your imagination! Over eight weeks\, we’ll explore the weird and wonderful world of bugs through art and design—creating fabric insects\, wearable wings\, layered papercrafts\, and stop motion animations. We’ll also visit Lamont Gallery in Exeter\, NH to explore their bug-themed exhibition. Artwork made in this program will be featured in the NH Art Association’s Fledgling Exhibition in 2026. Let your curiosity take flight as tiny inspirations grow into big-time\, bugged-out creations. \n—\nAbout AIR Programs:\n\n\nOpen to all teens ages 10-18 who feel like AIR is the right community for them. \n\n\nOpen to teens of all artistic abilities and skill levels. No prior experience is required! \n\n\nAIR is free of charge and provides transportation assistance to families in the Greater Seacoast area who need it to access these opportunities. \n\n\nLearn more and register at www.artsinreach.org/register \n\n\n—\nHow To Register\nVisit https://artsinreach.coursestorm.com/ to register online or print a physical registration form. \n—\nQuestions?\nContact programs@artsinreach.org or call 603-433-4278.
URL:https://artsinreach.org/event/buggin-out/2025-09-30/
LOCATION:Newmarket\, NH
CATEGORIES:ArtVentures
ATTACH;FMTTYPE=image/png:https://artsinreach.org/wp-content/uploads/2025/07/1.png
ORGANIZER;CN="Arts in Reach":MAILTO:info@artsinreach.org
END:VEVENT
END:VCALENDAR