BEGIN:VCALENDAR
VERSION:2.0
PRODID:-//Arts In Reach - ECPv6.15.20//NONSGML v1.0//EN
CALSCALE:GREGORIAN
METHOD:PUBLISH
X-ORIGINAL-URL:https://artsinreach.org
X-WR-CALDESC:Events for Arts In Reach
REFRESH-INTERVAL;VALUE=DURATION:PT1H
X-Robots-Tag:noindex
X-PUBLISHED-TTL:PT1H
BEGIN:VTIMEZONE
TZID:America/New_York
BEGIN:DAYLIGHT
TZOFFSETFROM:-0500
TZOFFSETTO:-0400
TZNAME:EDT
DTSTART:20250309T070000
END:DAYLIGHT
BEGIN:STANDARD
TZOFFSETFROM:-0400
TZOFFSETTO:-0500
TZNAME:EST
DTSTART:20251102T060000
END:STANDARD
BEGIN:DAYLIGHT
TZOFFSETFROM:-0500
TZOFFSETTO:-0400
TZNAME:EDT
DTSTART:20260308T070000
END:DAYLIGHT
BEGIN:STANDARD
TZOFFSETFROM:-0400
TZOFFSETTO:-0500
TZNAME:EST
DTSTART:20261101T060000
END:STANDARD
BEGIN:DAYLIGHT
TZOFFSETFROM:-0500
TZOFFSETTO:-0400
TZNAME:EDT
DTSTART:20270314T070000
END:DAYLIGHT
BEGIN:STANDARD
TZOFFSETFROM:-0400
TZOFFSETTO:-0500
TZNAME:EST
DTSTART:20271107T060000
END:STANDARD
END:VTIMEZONE
BEGIN:VEVENT
DTSTART;TZID=America/New_York:20260511T160000
DTEND;TZID=America/New_York:20260603T180000
DTSTAMP:20260420T223909
CREATED:20260114T174811Z
LAST-MODIFIED:20260408T211450Z
UID:10001865-1778515200-1780509600@artsinreach.org
SUMMARY:Scene Stealers (After-School Program)
DESCRIPTION:Mondays from March 16 – May 11  \n4:00 pm – 6:00 pm  \nLocation: NH Theater Project\, Portsmouth NH \nAges 10 – 18 \nHave you ever watched a movie and thought\, “I could play that role!” In this fun theatre program\, you’ll explore your favorite characters by playing improvisational games\, acting out scripted scenes\, and exploring other onstage skills. At the end of the program\, we’ll perform our scenes for friends and family! \nNote: No Meeting on April 27th \n\n—\nAbout AIR Programs:\n\n\nOpen to all teens ages 10-18 who feel like AIR is the right community for them. \n\n\nOpen to teens of all artistic abilities and skill levels. No prior experience is required! \n\n\nAIR is free of charge and provides transportation assistance to families in the Greater Seacoast area who need it to access these opportunities. \n\n\nLearn more and register at www.artsinreach.org/register \n\n\n—\nQuestions?\nContact programs@artsinreach.org or call 603-433-4278.
URL:https://artsinreach.org/event/scene-stealers/2026-05-11/
LOCATION:Portsmouth\, NH
CATEGORIES:AIR Artists,ArtVentures
ATTACH;FMTTYPE=image/png:https://artsinreach.org/wp-content/uploads/2026/01/2-1.png
ORGANIZER;CN="Arts in Reach":MAILTO:info@artsinreach.org
END:VEVENT
BEGIN:VEVENT
DTSTART;TZID=America/New_York:20260518T160000
DTEND;TZID=America/New_York:20260610T180000
DTSTAMP:20260420T223909
CREATED:20260114T174811Z
LAST-MODIFIED:20260408T211450Z
UID:10001866-1779120000-1781114400@artsinreach.org
SUMMARY:Scene Stealers (After-School Program)
DESCRIPTION:Mondays from March 16 – May 11  \n4:00 pm – 6:00 pm  \nLocation: NH Theater Project\, Portsmouth NH \nAges 10 – 18 \nHave you ever watched a movie and thought\, “I could play that role!” In this fun theatre program\, you’ll explore your favorite characters by playing improvisational games\, acting out scripted scenes\, and exploring other onstage skills. At the end of the program\, we’ll perform our scenes for friends and family! \nNote: No Meeting on April 27th \n\n—\nAbout AIR Programs:\n\n\nOpen to all teens ages 10-18 who feel like AIR is the right community for them. \n\n\nOpen to teens of all artistic abilities and skill levels. No prior experience is required! \n\n\nAIR is free of charge and provides transportation assistance to families in the Greater Seacoast area who need it to access these opportunities. \n\n\nLearn more and register at www.artsinreach.org/register \n\n\n—\nQuestions?\nContact programs@artsinreach.org or call 603-433-4278.
URL:https://artsinreach.org/event/scene-stealers/2026-05-18/
LOCATION:Portsmouth\, NH
CATEGORIES:AIR Artists,ArtVentures
ATTACH;FMTTYPE=image/png:https://artsinreach.org/wp-content/uploads/2026/01/2-1.png
ORGANIZER;CN="Arts in Reach":MAILTO:info@artsinreach.org
END:VEVENT
BEGIN:VEVENT
DTSTART;TZID=America/New_York:20260525T160000
DTEND;TZID=America/New_York:20260617T180000
DTSTAMP:20260420T223909
CREATED:20260114T174811Z
LAST-MODIFIED:20260408T211450Z
UID:10001867-1779724800-1781719200@artsinreach.org
SUMMARY:Scene Stealers (After-School Program)
DESCRIPTION:Mondays from March 16 – May 11  \n4:00 pm – 6:00 pm  \nLocation: NH Theater Project\, Portsmouth NH \nAges 10 – 18 \nHave you ever watched a movie and thought\, “I could play that role!” In this fun theatre program\, you’ll explore your favorite characters by playing improvisational games\, acting out scripted scenes\, and exploring other onstage skills. At the end of the program\, we’ll perform our scenes for friends and family! \nNote: No Meeting on April 27th \n\n—\nAbout AIR Programs:\n\n\nOpen to all teens ages 10-18 who feel like AIR is the right community for them. \n\n\nOpen to teens of all artistic abilities and skill levels. No prior experience is required! \n\n\nAIR is free of charge and provides transportation assistance to families in the Greater Seacoast area who need it to access these opportunities. \n\n\nLearn more and register at www.artsinreach.org/register \n\n\n—\nQuestions?\nContact programs@artsinreach.org or call 603-433-4278.
URL:https://artsinreach.org/event/scene-stealers/2026-05-25/
LOCATION:Portsmouth\, NH
CATEGORIES:AIR Artists,ArtVentures
ATTACH;FMTTYPE=image/png:https://artsinreach.org/wp-content/uploads/2026/01/2-1.png
ORGANIZER;CN="Arts in Reach":MAILTO:info@artsinreach.org
END:VEVENT
BEGIN:VEVENT
DTSTART;TZID=America/New_York:20260601T160000
DTEND;TZID=America/New_York:20260624T180000
DTSTAMP:20260420T223909
CREATED:20260114T174811Z
LAST-MODIFIED:20260408T211450Z
UID:10001868-1780329600-1782324000@artsinreach.org
SUMMARY:Scene Stealers (After-School Program)
DESCRIPTION:Mondays from March 16 – May 11  \n4:00 pm – 6:00 pm  \nLocation: NH Theater Project\, Portsmouth NH \nAges 10 – 18 \nHave you ever watched a movie and thought\, “I could play that role!” In this fun theatre program\, you’ll explore your favorite characters by playing improvisational games\, acting out scripted scenes\, and exploring other onstage skills. At the end of the program\, we’ll perform our scenes for friends and family! \nNote: No Meeting on April 27th \n\n—\nAbout AIR Programs:\n\n\nOpen to all teens ages 10-18 who feel like AIR is the right community for them. \n\n\nOpen to teens of all artistic abilities and skill levels. No prior experience is required! \n\n\nAIR is free of charge and provides transportation assistance to families in the Greater Seacoast area who need it to access these opportunities. \n\n\nLearn more and register at www.artsinreach.org/register \n\n\n—\nQuestions?\nContact programs@artsinreach.org or call 603-433-4278.
URL:https://artsinreach.org/event/scene-stealers/2026-06-01/
LOCATION:Portsmouth\, NH
CATEGORIES:AIR Artists,ArtVentures
ATTACH;FMTTYPE=image/png:https://artsinreach.org/wp-content/uploads/2026/01/2-1.png
ORGANIZER;CN="Arts in Reach":MAILTO:info@artsinreach.org
END:VEVENT
BEGIN:VEVENT
DTSTART;TZID=America/New_York:20260608T160000
DTEND;TZID=America/New_York:20260701T180000
DTSTAMP:20260420T223909
CREATED:20260114T174811Z
LAST-MODIFIED:20260408T211450Z
UID:10001869-1780934400-1782928800@artsinreach.org
SUMMARY:Scene Stealers (After-School Program)
DESCRIPTION:Mondays from March 16 – May 11  \n4:00 pm – 6:00 pm  \nLocation: NH Theater Project\, Portsmouth NH \nAges 10 – 18 \nHave you ever watched a movie and thought\, “I could play that role!” In this fun theatre program\, you’ll explore your favorite characters by playing improvisational games\, acting out scripted scenes\, and exploring other onstage skills. At the end of the program\, we’ll perform our scenes for friends and family! \nNote: No Meeting on April 27th \n\n—\nAbout AIR Programs:\n\n\nOpen to all teens ages 10-18 who feel like AIR is the right community for them. \n\n\nOpen to teens of all artistic abilities and skill levels. No prior experience is required! \n\n\nAIR is free of charge and provides transportation assistance to families in the Greater Seacoast area who need it to access these opportunities. \n\n\nLearn more and register at www.artsinreach.org/register \n\n\n—\nQuestions?\nContact programs@artsinreach.org or call 603-433-4278.
URL:https://artsinreach.org/event/scene-stealers/2026-06-08/
LOCATION:Portsmouth\, NH
CATEGORIES:AIR Artists,ArtVentures
ATTACH;FMTTYPE=image/png:https://artsinreach.org/wp-content/uploads/2026/01/2-1.png
ORGANIZER;CN="Arts in Reach":MAILTO:info@artsinreach.org
END:VEVENT
BEGIN:VEVENT
DTSTART;TZID=America/New_York:20260615T160000
DTEND;TZID=America/New_York:20260708T180000
DTSTAMP:20260420T223909
CREATED:20260114T174811Z
LAST-MODIFIED:20260408T211450Z
UID:10001870-1781539200-1783533600@artsinreach.org
SUMMARY:Scene Stealers (After-School Program)
DESCRIPTION:Mondays from March 16 – May 11  \n4:00 pm – 6:00 pm  \nLocation: NH Theater Project\, Portsmouth NH \nAges 10 – 18 \nHave you ever watched a movie and thought\, “I could play that role!” In this fun theatre program\, you’ll explore your favorite characters by playing improvisational games\, acting out scripted scenes\, and exploring other onstage skills. At the end of the program\, we’ll perform our scenes for friends and family! \nNote: No Meeting on April 27th \n\n—\nAbout AIR Programs:\n\n\nOpen to all teens ages 10-18 who feel like AIR is the right community for them. \n\n\nOpen to teens of all artistic abilities and skill levels. No prior experience is required! \n\n\nAIR is free of charge and provides transportation assistance to families in the Greater Seacoast area who need it to access these opportunities. \n\n\nLearn more and register at www.artsinreach.org/register \n\n\n—\nQuestions?\nContact programs@artsinreach.org or call 603-433-4278.
URL:https://artsinreach.org/event/scene-stealers/2026-06-15/
LOCATION:Portsmouth\, NH
CATEGORIES:AIR Artists,ArtVentures
ATTACH;FMTTYPE=image/png:https://artsinreach.org/wp-content/uploads/2026/01/2-1.png
ORGANIZER;CN="Arts in Reach":MAILTO:info@artsinreach.org
END:VEVENT
BEGIN:VEVENT
DTSTART;TZID=America/New_York:20260622T100000
DTEND;TZID=America/New_York:20260626T150000
DTSTAMP:20260420T223909
CREATED:20260408T210543Z
LAST-MODIFIED:20260408T211130Z
UID:10001857-1782122400-1782486000@artsinreach.org
SUMMARY:First Contact
DESCRIPTION:First Contact | Ages 14 – 18 \nMonday – Friday\, June 22 – 26\, 10:00 am – 3:00 pm \nNewmarket Millspace\, Newmarket\, NH \nFirst Contact is all about imagining alien civilizations and bringing them to life through art—during our week together\, we will design extraterrestrial species\, build strange new worlds\, and create solar systems\, spacecraft\, and out-of-this-world movie merch inspired by classic sci-fi. \nThis program also includes field trips to the McAuliffe-Shepard Discovery Center for a full-dome space show and a look at real spacecraft\, and the Portsmouth Historical Society to create mysterious\, museum-grade alien artifacts. \nThe week will close with an Intergalactic Expo to share discoveries and creations with friends and family! \n—\nAbout AIR Programs:\n\n\nOpen to teens of all artistic abilities and skill levels. No prior experience is required! \n\n\nAIR is free of charge and provides transportation assistance to families in the Greater Seacoast area who need it to access these opportunities. \n\n\nLearn more and register at www.artsinreach.org/register \n\n\n—\nHow To Register\nVisit AIR’s Arly page to register online or print a physical registration form. \n—\nQuestions?\nContact programs@artsinreach.org or call 603-433-4278.
URL:https://artsinreach.org/event/first-contact/
LOCATION:Newmarket Millspace\, 55 Main St Suite 132\, Newmarket\, NH\, 03857\, United States
CATEGORIES:AIR Artists
ATTACH;FMTTYPE=image/png:https://artsinreach.org/wp-content/uploads/2026/04/5-scaled.png
ORGANIZER;CN="Arts in Reach":MAILTO:info@artsinreach.org
END:VEVENT
BEGIN:VEVENT
DTSTART;TZID=America/New_York:20260622T160000
DTEND;TZID=America/New_York:20260715T180000
DTSTAMP:20260420T223909
CREATED:20260114T174811Z
LAST-MODIFIED:20260408T211450Z
UID:10001871-1782144000-1784138400@artsinreach.org
SUMMARY:Scene Stealers (After-School Program)
DESCRIPTION:Mondays from March 16 – May 11  \n4:00 pm – 6:00 pm  \nLocation: NH Theater Project\, Portsmouth NH \nAges 10 – 18 \nHave you ever watched a movie and thought\, “I could play that role!” In this fun theatre program\, you’ll explore your favorite characters by playing improvisational games\, acting out scripted scenes\, and exploring other onstage skills. At the end of the program\, we’ll perform our scenes for friends and family! \nNote: No Meeting on April 27th \n\n—\nAbout AIR Programs:\n\n\nOpen to all teens ages 10-18 who feel like AIR is the right community for them. \n\n\nOpen to teens of all artistic abilities and skill levels. No prior experience is required! \n\n\nAIR is free of charge and provides transportation assistance to families in the Greater Seacoast area who need it to access these opportunities. \n\n\nLearn more and register at www.artsinreach.org/register \n\n\n—\nQuestions?\nContact programs@artsinreach.org or call 603-433-4278.
URL:https://artsinreach.org/event/scene-stealers/2026-06-22/
LOCATION:Portsmouth\, NH
CATEGORIES:AIR Artists,ArtVentures
ATTACH;FMTTYPE=image/png:https://artsinreach.org/wp-content/uploads/2026/01/2-1.png
ORGANIZER;CN="Arts in Reach":MAILTO:info@artsinreach.org
END:VEVENT
BEGIN:VEVENT
DTSTART;TZID=America/New_York:20260629T160000
DTEND;TZID=America/New_York:20260722T180000
DTSTAMP:20260420T223909
CREATED:20260114T174811Z
LAST-MODIFIED:20260408T211450Z
UID:10001872-1782748800-1784743200@artsinreach.org
SUMMARY:Scene Stealers (After-School Program)
DESCRIPTION:Mondays from March 16 – May 11  \n4:00 pm – 6:00 pm  \nLocation: NH Theater Project\, Portsmouth NH \nAges 10 – 18 \nHave you ever watched a movie and thought\, “I could play that role!” In this fun theatre program\, you’ll explore your favorite characters by playing improvisational games\, acting out scripted scenes\, and exploring other onstage skills. At the end of the program\, we’ll perform our scenes for friends and family! \nNote: No Meeting on April 27th \n\n—\nAbout AIR Programs:\n\n\nOpen to all teens ages 10-18 who feel like AIR is the right community for them. \n\n\nOpen to teens of all artistic abilities and skill levels. No prior experience is required! \n\n\nAIR is free of charge and provides transportation assistance to families in the Greater Seacoast area who need it to access these opportunities. \n\n\nLearn more and register at www.artsinreach.org/register \n\n\n—\nQuestions?\nContact programs@artsinreach.org or call 603-433-4278.
URL:https://artsinreach.org/event/scene-stealers/2026-06-29/
LOCATION:Portsmouth\, NH
CATEGORIES:AIR Artists,ArtVentures
ATTACH;FMTTYPE=image/png:https://artsinreach.org/wp-content/uploads/2026/01/2-1.png
ORGANIZER;CN="Arts in Reach":MAILTO:info@artsinreach.org
END:VEVENT
END:VCALENDAR