BEGIN:VCALENDAR
VERSION:2.0
PRODID:-//Arts In Reach - ECPv6.15.20//NONSGML v1.0//EN
CALSCALE:GREGORIAN
METHOD:PUBLISH
X-WR-CALNAME:Arts In Reach
X-ORIGINAL-URL:https://artsinreach.org
X-WR-CALDESC:Events for Arts In Reach
REFRESH-INTERVAL;VALUE=DURATION:PT1H
X-Robots-Tag:noindex
X-PUBLISHED-TTL:PT1H
BEGIN:VTIMEZONE
TZID:America/New_York
BEGIN:DAYLIGHT
TZOFFSETFROM:-0500
TZOFFSETTO:-0400
TZNAME:EDT
DTSTART:20220313T070000
END:DAYLIGHT
BEGIN:STANDARD
TZOFFSETFROM:-0400
TZOFFSETTO:-0500
TZNAME:EST
DTSTART:20221106T060000
END:STANDARD
BEGIN:DAYLIGHT
TZOFFSETFROM:-0500
TZOFFSETTO:-0400
TZNAME:EDT
DTSTART:20230312T070000
END:DAYLIGHT
BEGIN:STANDARD
TZOFFSETFROM:-0400
TZOFFSETTO:-0500
TZNAME:EST
DTSTART:20231105T060000
END:STANDARD
BEGIN:DAYLIGHT
TZOFFSETFROM:-0500
TZOFFSETTO:-0400
TZNAME:EDT
DTSTART:20240310T070000
END:DAYLIGHT
BEGIN:STANDARD
TZOFFSETFROM:-0400
TZOFFSETTO:-0500
TZNAME:EST
DTSTART:20241103T060000
END:STANDARD
END:VTIMEZONE
BEGIN:VEVENT
DTSTART;TZID=America/New_York:20230929T193000
DTEND;TZID=America/New_York:20230929T213000
DTSTAMP:20260421T144226
CREATED:20230914T173807Z
LAST-MODIFIED:20230914T174029Z
UID:10000375-1696015800-1696023000@artsinreach.org
SUMMARY:Thirst for Freedom at NH Theatre Project
DESCRIPTION:Join AIR to see NHTP’s Thirst for Freedom on Friday\, September 29th at 7:30pm in Portsmouth\, NH!\n\nOpen to returning AIR participants ages 13+\nFree of charge\nTransportation assistance available if needed within the Greater Seacoast area.\n\n—\nFrom NHTP:\nThe story of Ona Judge will inspire and touch your heart. Enslaved by George and Martha Washington\, she dares to defy her circumstances​ by ​fleeing their Philadelphia residence in search of a new life ​in Portsmouth\, NH. Her unwavering determination\, strength\, and sacrifice facing incredible obstacles and dangers make for a riveting and important story.\nThirst for Freedom is directed by Kim Starling and features performances by Seda Tuncok as Ona and Matt Recine as John Langdon\, along with Jordan Raymond\, Lionel Loveless\, John Bolduc\, Haley Devalliere\, John Jenks Seymour\, Richard Glenn Ward\, and Clark Kaddy as Dame Sally. Thirst for Freedom is co-produced by Jukwaa Mazoa Theatre Productions and in association with The Black Heritage Trail of NH and The Players’ Ring. \n“This may be a historical play but the story it tells is still relevant to our experience today. Degrading laws are still being enacted with impunity\, books being banned for the sake of weaponized ignorance\, and knees still crushing the civil liberties of too many.  We go backward if we do not heed the lessons of the past and that is what art\, theatre\, books and music provide us access to in the here and now.”   Kim Starling\, Director of Thirst for Freedom \n—\nAbout AIR Programs:\n\nOpen to teen girls and gender expansive youth who feel like AIR is the right community for them.\nTeens of all artistic abilities and skill levels are welcome. No prior experience required!\nAIR is free of charge and provides transportation assistance to families in the Greater Seacoast area.\n\n—\nHow To Register\nNew to AIR?\nVisit www.artsinreach.org/register to register online or print a physical registration form. \nReturning to AIR?\nIf you have already filled out a registration form\, simply email info@artsinreach.org to sign up for specific programs/workshops/field trips. \n—\nQuestions?\nContact info@artsinreach.org or call 603-433-4278.
URL:https://artsinreach.org/event/thirst-for-freedom-at-nh-theatre-project/
LOCATION:New Hampshire Theatre Project
CATEGORIES:AIR Artists,AIR Workshops
ATTACH;FMTTYPE=image/jpeg:https://artsinreach.org/wp-content/uploads/2023/09/blog-2.jpg
ORGANIZER;CN="Arts in Reach":MAILTO:info@artsinreach.org
END:VEVENT
END:VCALENDAR