BEGIN:VCALENDAR
VERSION:2.0
PRODID:-//Arts In Reach - ECPv6.15.20//NONSGML v1.0//EN
CALSCALE:GREGORIAN
METHOD:PUBLISH
X-ORIGINAL-URL:https://artsinreach.org
X-WR-CALDESC:Events for Arts In Reach
REFRESH-INTERVAL;VALUE=DURATION:PT1H
X-Robots-Tag:noindex
X-PUBLISHED-TTL:PT1H
BEGIN:VTIMEZONE
TZID:America/New_York
BEGIN:DAYLIGHT
TZOFFSETFROM:-0500
TZOFFSETTO:-0400
TZNAME:EDT
DTSTART:20220313T070000
END:DAYLIGHT
BEGIN:STANDARD
TZOFFSETFROM:-0400
TZOFFSETTO:-0500
TZNAME:EST
DTSTART:20221106T060000
END:STANDARD
BEGIN:DAYLIGHT
TZOFFSETFROM:-0500
TZOFFSETTO:-0400
TZNAME:EDT
DTSTART:20230312T070000
END:DAYLIGHT
BEGIN:STANDARD
TZOFFSETFROM:-0400
TZOFFSETTO:-0500
TZNAME:EST
DTSTART:20231105T060000
END:STANDARD
BEGIN:DAYLIGHT
TZOFFSETFROM:-0500
TZOFFSETTO:-0400
TZNAME:EDT
DTSTART:20240310T070000
END:DAYLIGHT
BEGIN:STANDARD
TZOFFSETFROM:-0400
TZOFFSETTO:-0500
TZNAME:EST
DTSTART:20241103T060000
END:STANDARD
BEGIN:DAYLIGHT
TZOFFSETFROM:-0500
TZOFFSETTO:-0400
TZNAME:EDT
DTSTART:20250309T070000
END:DAYLIGHT
BEGIN:STANDARD
TZOFFSETFROM:-0400
TZOFFSETTO:-0500
TZNAME:EST
DTSTART:20251102T060000
END:STANDARD
END:VTIMEZONE
BEGIN:VTIMEZONE
TZID:UTC
BEGIN:STANDARD
TZOFFSETFROM:+0000
TZOFFSETTO:+0000
TZNAME:UTC
DTSTART:20200101T000000
END:STANDARD
END:VTIMEZONE
BEGIN:VEVENT
DTSTART;VALUE=DATE:20240326
DTEND;VALUE=DATE:20240327
DTSTAMP:20260421T063152
CREATED:20240112T210104Z
LAST-MODIFIED:20240112T211248Z
UID:10000410-1711411200-1711497599@artsinreach.org
SUMMARY:Threads of Change
DESCRIPTION:Program dates will be finalized in collaboration with registrants.\n4:00 pm – 6:30 pm\nPortsmouth\, NH (Exact Location Provided to Confirmed Participants)\nOpen to Girls and Gender-Expansive Youth Ages 15-19\nFashion a new future that addresses the environmental and labor injustices of the fast fashion industry through a blend of fun and collaboration. In this program\, we will embrace our roles as leaders\, and strategically explore ways to leverage our knowledge and skills in clothing sustainability\, in order to positively impact our community. \n—\nAbout AIR Programs:\n\nOpen to teen girls and gender expansive youth who feel like AIR is the right community for them.\nTeens of all artistic abilities and skill levels are welcome. No prior experience required!\nAIR is free of charge and provides transportation assistance to families in the Greater Seacoast area.\n\n—\nHow To Register\nVisit www.artsinreach.org/register to register online or print a physical registration form. \n—\nQuestions?\nContact info@artsinreach.org or call 603-433-4278.
URL:https://artsinreach.org/event/threads-of-change/
LOCATION:Portsmouth\, NH
CATEGORIES:Advance on AIR,AIR Artists
ATTACH;FMTTYPE=image/jpeg:https://artsinreach.org/wp-content/uploads/2024/01/Website-EventBlog-Images-14.jpg
ORGANIZER;CN="Arts in Reach":MAILTO:info@artsinreach.org
END:VEVENT
BEGIN:VEVENT
DTSTART;TZID=America/New_York:20231215T160000
DTEND;TZID=America/New_York:20231215T183000
DTSTAMP:20260421T063152
CREATED:20231116T203729Z
LAST-MODIFIED:20231116T203729Z
UID:10000279-1702656000-1702665000@artsinreach.org
SUMMARY:You've Got Snail Mail
DESCRIPTION:You’ve Got Snail Mail\nFriday\, December 15th from 4-6:30pm in Durham\, NH (Exact Location Provided to Confirmed Participants)\n\nOpen to Girls and Gender-Expansive Youth Ages 16 – 22\nFree of Charge\nTransportation assistance available within the Greater Seacoast area if you need it to access this opportunity\n\nJoin AIR for a cozy and crafty evening of card-making! Explore the art of papercraft by creating cards for your friends and family that will leave a stamp on their hearts. Not only is snail mail fun- it also relieves stress\, enhances creativity\, boosts cognitive functions like problem-solving and memory\, and helps us feel connected! \n—\nAbout AIR Programs:\n\nOpen to teen girls and gender expansive youth who feel like AIR is the right community for them.\nTeens of all artistic abilities and skill levels are welcome. No prior experience required!\nAIR is free of charge and provides transportation assistance to families in the Greater Seacoast area.\n\n—\nHow To Register\nNew to AIR?\nVisit www.artsinreach.org/register to register online or print a physical registration form. \nReturning to AIR?\nIf you have already filled out a registration form\, simply email info@artsinreach.org to sign up for specific programs/workshops/field trips.. \n—\nQuestions?\nContact info@artsinreach.org or call 603-433-4278.
URL:https://artsinreach.org/event/youve-got-snail-mail/
LOCATION:Durham\, NH
CATEGORIES:Advance on AIR,AIR Artists,AIR Workshops
ATTACH;FMTTYPE=image/png:https://artsinreach.org/wp-content/uploads/2023/11/Website-EventBlog-Images.png
ORGANIZER;CN="Arts in Reach":MAILTO:info@artsinreach.org
END:VEVENT
BEGIN:VEVENT
DTSTART;TZID=America/New_York:20231207T183000
DTEND;TZID=America/New_York:20231207T213000
DTSTAMP:20260421T063152
CREATED:20231116T204501Z
LAST-MODIFIED:20231116T204501Z
UID:10000280-1701973800-1701984600@artsinreach.org
SUMMARY:The Sound of Music at The Music Hall
DESCRIPTION:Join AIR to see The Music Hall’s The Sound of Music on Thursday\, December 7th at 6:30pm in Portsmouth\, NH!\n\nOpen to returning AIR participants ages 11+\nFree of charge\nTransportation assistance available if needed within the Greater Seacoast area if needed to access this opportunity.\n\n—\nFrom The Music Hall:\nDon’t miss the magic of The Sound of Music this holiday season! This beloved classic tells the story of a problem named Maria\, a governess for the von Trapp family\, set against the backdrop of Austria at the beginning of World War II. Coming to The Music Hall stage for a limited time\, the final collaboration between the acclaimed songwriting team Richard Rodgers and Oscar Hammerstein has become one of the world’s most cherished musicals\, winning five Tony Awards\, including Best Musical. Join us for a breathtaking journey that will leave you feeling uplifted and inspired. Whether you’re a diehard fan or a newcomer\, this timeless classic is sure to delight and enchant you.\n—\nAbout AIR Programs:\n\nOpen to teen girls and gender expansive youth who feel like AIR is the right community for them.\nTeens of all artistic abilities and skill levels are welcome. No prior experience required!\nAIR is free of charge and provides transportation assistance to families in the Greater Seacoast area.\n\n—\nHow To Register\nNew to AIR?\nVisit www.artsinreach.org/register to register online or print a physical registration form. \nReturning to AIR?\nIf you have already filled out a registration form\, simply email info@artsinreach.org to sign up for specific programs/workshops/field trips.. \n—\nQuestions?\nContact info@artsinreach.org or call 603-433-4278.
URL:https://artsinreach.org/event/the-sound-of-music-at-the-music-hall/
LOCATION:The Music Hall\, 28 Chestnut St\, Portsmouth\, NH\, 03802\, United States
CATEGORIES:Advance on AIR,AIR Artists,AIR Workshops,ArtVentures
ATTACH;FMTTYPE=image/png:https://artsinreach.org/wp-content/uploads/2023/11/Website-EventBlog-Images-1.png
ORGANIZER;CN="Arts in Reach":MAILTO:info@artsinreach.org
END:VEVENT
BEGIN:VEVENT
DTSTART;TZID=America/New_York:20231102T193000
DTEND;TZID=America/New_York:20231102T210000
DTSTAMP:20260421T063152
CREATED:20231016T221656Z
LAST-MODIFIED:20231027T192416Z
UID:10000277-1698953400-1698958800@artsinreach.org
SUMMARY:*Field Trip Full\, Waitlist Available* The Addams Family at Rochester Opera House
DESCRIPTION:Join AIR to see Rochester Opera House’s The Addams Family on Thursday\, November 2nd at 7:30pm in Rochester\, NH!\n\nOpen to returning AIR participants ages 11+\nFree of charge\nTransportation assistance available if needed within the Greater Seacoast area.\n\n—\nFrom Rochester Opera House:\nThe Addams Family is a comical feast that embraces the wackiness in every family\, features an original story and it’s every father’s nightmare: Wednesday Addams\, the ultimate princess of darkness\, has grown up and fallen in love with a sweet\, smart young man from a respectable family– a man her parents have never met. And if that wasn’t upsetting enough\, Wednesday confides in her father and begs him not to tell her mother. Now\, Gomez Addams must do something he’s never done before– keep a secret from his beloved wife\, Morticia. Everything will change for the whole family on the fateful night they host a dinner for Wednesday’s “normal” boyfriend and his parents.\n—\nAbout AIR Programs:\n\nOpen to teen girls and gender expansive youth who feel like AIR is the right community for them.\nTeens of all artistic abilities and skill levels are welcome. No prior experience required!\nAIR is free of charge and provides transportation assistance to families in the Greater Seacoast area.\n\n—\nHow To Register\nNew to AIR?\nVisit www.artsinreach.org/register to register online or print a physical registration form. \nReturning to AIR?\nIf you have already filled out a registration form\, simply email info@artsinreach.org to sign up for specific programs/workshops/field trips.. \n—\nQuestions?\nContact info@artsinreach.org or call 603-433-4278.
URL:https://artsinreach.org/event/rochester-opera-house-the-addams-family/
LOCATION:Rochester Opera House\, 31 Wakefield St\, Rochester\, 03867\, United States
CATEGORIES:Advance on AIR,AIR Artists,AIR Workshops,ArtVentures
ATTACH;FMTTYPE=image/jpeg:https://artsinreach.org/wp-content/uploads/2023/09/blog-3.jpg
ORGANIZER;CN="Arts in Reach":MAILTO:info@artsinreach.org
END:VEVENT
BEGIN:VEVENT
DTSTART;TZID=America/New_York:20231020T160000
DTEND;TZID=America/New_York:20231020T180000
DTSTAMP:20260421T063152
CREATED:20230921T151151Z
LAST-MODIFIED:20230921T151713Z
UID:10000270-1697817600-1697824800@artsinreach.org
SUMMARY:Pizza + Poetry
DESCRIPTION:Join AIR\, Seacoast Outright\, and Portland\, ME’s Poet Laureate Maya Williams for pizza and a poetry workshop celebrating the release of their second poetry collection\, Refused A Second Date.\nFriday\, October 20 from 4-6pm in Portsmouth\, NH\nOpen to AIR and Seacoast Outright teens and past participants ages 16-22.\nContent Advisory: Mature topics will be discussed during this workshop related to intimate relationships and consent. Due to the nature of this content\, this workshop is intended for individuals ages 16-22. Participants under 16 may be able to participate pending consultation with a guardian/parent and AIR program staffperson.  \n—\nAbout Maya Williams:\nMaya Williams (ey/they/she) is a religious Black multiracial nonbinary writer who is currently the seventh poet laureate of Portland\, Maine. Maya was one of three artists of color selected to represent Maine in The Kennedy Center’s Arts Across America series in 2020. They were also selected as one of The Advocate‘s Champions of Pride in 2022. You can follow more of their work at mayawilliamspoet.com. \n—\nAbout AIR Programs:\n\n\nOpen to teen girls and gender expansive youth who feel like AIR is the right community for them. \n\n\nTeens of all artistic abilities and skill levels are welcome. No prior experience required! \n\n\nAIR is free of charge and provides transportation assistance to families in the Greater Seacoast area. \n\n\n—\nHow To Register\nNew to AIR?\nVisit www.artsinreach.org/register to register online or print a physical registration form. \nReturning to AIR?\nIf you have already filled out a registration form\, simply email info@artsinreach.org to sign up for specific programs. \nProgram sign-up requests are on a space-available basis. If necessary\, priority is given to teens from under-resourced households. \n—\nQuestions?\nContact info@artsinreach.org or call 603-433-4278.
URL:https://artsinreach.org/event/pizza-poetry/
LOCATION:Portsmouth\, NH
CATEGORIES:Advance on AIR,AIR Artists,AIR Workshops
ATTACH;FMTTYPE=image/jpeg:https://artsinreach.org/wp-content/uploads/2023/09/blog-9.jpg
ORGANIZER;CN="Arts in Reach":MAILTO:info@artsinreach.org
END:VEVENT
BEGIN:VEVENT
DTSTART;TZID=UTC:20230610T100000
DTEND;TZID=UTC:20230610T123000
DTSTAMP:20260421T063152
CREATED:20230512T201246Z
LAST-MODIFIED:20230512T201246Z
UID:10000377-1686391200-1686400200@artsinreach.org
SUMMARY:Terrarium Time!
DESCRIPTION:Saturday\, June 10\, 2023\n10:00 am – 12:30 pm in Exeter\, NH\nReturning AIR Participants Ages 13-18\nGet your hands dirty as you put together your own mini-ecosystem full of plants\, pebbles\, and other natural materials! Our guide will lead you and Riverwoods residents through this intergenerational workshop\, combining nature and art to create a one-of-a-kind terrariums. \n—\nAbout AIR Programs:\n\n\nOpen to teen girls and gender expansive youth who feel like AIR is the right community for them. \n\n\nTeens of all artistic abilities and skill levels are welcome. No prior experience required! \n\n\nAIR is free of charge and provides transportation assistance to families in the Greater Seacoast area. \n\n\n—\nHow To Register\nNew to AIR?\nVisit www.artsinreach.org/register to register online or print a physical registration form. \nReturning to AIR?\nIf you have already filled out a registration form\, simply email info@artsinreach.org to sign up for specific programs. \nProgram sign-up requests are on a space-available basis. If necessary\, priority is given to teens from under-resourced households. \n—\nQuestions?\nContact info@artsinreach.org or call 603-433-4278.
URL:https://artsinreach.org/event/terrarium-time/
LOCATION:Exeter\, NH
CATEGORIES:Advance on AIR,AIR Artists,AIR Workshops
ATTACH;FMTTYPE=image/png:https://artsinreach.org/wp-content/uploads/2023/05/blog-34.png
ORGANIZER;CN="Arts in Reach":MAILTO:info@artsinreach.org
END:VEVENT
BEGIN:VEVENT
DTSTART;TZID=UTC:20230519T183000
DTEND;TZID=UTC:20230519T193000
DTSTAMP:20260421T063152
CREATED:20230509T012628Z
LAST-MODIFIED:20230509T012628Z
UID:10000378-1684521000-1684524600@artsinreach.org
SUMMARY:Bloom'd Fashion Show
DESCRIPTION:This spring Arts In Reach hosted two wearable art programs: SPARC Lab for ages 11-13 and Wild Imaginings Project for ages 14-18. Participants upcycled clothing donated from our community using methods such as: block printing\, embroidering\, painting\, sewing\, and more! \nCome celebrate these teen fashion designers as they show off their lewks on the runway! This event will be at the fabulous Mall at Fox Run (50 Fox Run Rd\, Newington\, NH 03801) at 6:30pm. The event will last no longer than an hour. \nThere will be limited seating available\, so BYOC (Bring Your Own Chair) if you want to be guaranteed a seat. \nGetting to the venue: Use the main entrance by Men’s Wearhouse. It will be in the open area where the mall hosts their Santa and Easter Bunny photo ops. The mall is located just outside of Portsmouth\, NH at the intersection of Spaulding Turnpike (US 4 and US 16) and Fox Run Rd. \nADA Note: The Mall at Fox Run is fully ADA compliant. \n\n\n\n\nRSVP Here!
URL:https://artsinreach.org/event/bloomd-fashion-show/
LOCATION:The Mall at Fox Run\, 50 Fox Run Rd\, Newington\, NH\, 03801\, United States
CATEGORIES:Advance on AIR,AIR Artists,ArtVentures
ATTACH;FMTTYPE=image/png:https://artsinreach.org/wp-content/uploads/2023/05/blog.png
ORGANIZER;CN="Arts in Reach":MAILTO:info@artsinreach.org
END:VEVENT
BEGIN:VEVENT
DTSTART;TZID=UTC:20230324T200000
DTEND;TZID=UTC:20230324T220000
DTSTAMP:20260421T063152
CREATED:20230314T220724Z
LAST-MODIFIED:20230314T221023Z
UID:10000403-1679688000-1679695200@artsinreach.org
SUMMARY:NHTP presents Dreaming Again
DESCRIPTION:NHTP presents Dreaming Again\nFriday\, March 24th in Portsmouth\, NH at 8pm\nCurrently full! Email info@artsinreach.org to join the waitlist.\n\nOpen to returning AIR participants ages 13+\nFree of charge\nTransportation assistance available if needed within the Greater Seacoast area.\n\nFrom NHTP:\nDreaming Again was adapted by Genevieve Aichele from interviews with over 40 immigrants and refugees to the state of New Hampshire.\nDirected by CJ Lewis. \nIn 2012\, New Hampshire Humanities commissioned playwright Genevieve Aichele to write a play based on the real life stories of refugees and immigrants in New Hampshire. The result was the play Dreaming Again\, which Aichele based on oral interviews with over 40 people who had left homes and lives in other countries to resettle in New Hampshire. Dreaming Again was performed by the NHTP across the state of New Hampshire to primarily adult audiences. \nIn 2013\, NHTP collaborated with the Mariposa Museum in Peterborough to bring Dreaming Again to a new audience\, this time middle and high school students and teachers and school staff. That pilot brought Dreaming Again to 16 schools as well as to community audiences in Portsmouth and Peterborough. In 2023\, NHTP will again be collaborating with Mariposa Museum\, who will be coordinating the school tour across New Hampshire. \nThe multicultural cast features five actors and three musicians playing multiple roles. Dreaming Again also uses music from many different cultures and traditions\, arranged by Agnes Charlesworth. \nGiven New Hampshire’s role as a refugee resettlement state this play is as relevant today as it was 10 years ago. Dreaming Again is a collection of stories told by real people who live in our state right now. Hearing their personal experiences deepens understanding\, and builds empathy and connections for the audience.
URL:https://artsinreach.org/event/nhtp-presents-dreaming-again/
LOCATION:New Hampshire Theatre Project
CATEGORIES:Advance on AIR,AIR Artists
ATTACH;FMTTYPE=image/png:https://artsinreach.org/wp-content/uploads/2023/03/blog-24.png
ORGANIZER;CN="Arts in Reach":MAILTO:info@artsinreach.org
END:VEVENT
BEGIN:VEVENT
DTSTART;TZID=UTC:20230204T100000
DTEND;TZID=UTC:20230204T130000
DTSTAMP:20260421T063152
CREATED:20230110T034603Z
LAST-MODIFIED:20230110T035053Z
UID:10000400-1675504800-1675515600@artsinreach.org
SUMMARY:Awesome-Blage
DESCRIPTION:Awesome-blage\nSaturday\, February 4\n10am-1pm at MoNA Portsmouth\nMake weird assemblage sculptures with weird people inspired by the absurd and delightful art of Judy Pfaff! Ages 13-22 welcome! \n\nOpen to girls and gender expansive youth ages 13-22 of all artistic abilities and skills\nFree of charge\nTransportation assistance available if needed within the Greater Seacoast area.\nLimited spaces available!\n\nPlease email info@artsinreach.org to sign up\, and submit a 2022-2023 Registration Form if you have not already.
URL:https://artsinreach.org/event/awesome-blage/
LOCATION:Portsmouth\, NH
CATEGORIES:Advance on AIR,AIR Artists,AIR Workshops
ATTACH;FMTTYPE=image/png:https://artsinreach.org/wp-content/uploads/2023/01/blog-15.png
ORGANIZER;CN="Arts in Reach":MAILTO:info@artsinreach.org
END:VEVENT
BEGIN:VEVENT
DTSTART;TZID=UTC:20230126T190000
DTEND;TZID=UTC:20230126T210000
DTSTAMP:20260421T063152
CREATED:20230112T000937Z
LAST-MODIFIED:20230112T000937Z
UID:10000401-1674759600-1674766800@artsinreach.org
SUMMARY:Moonage Daydream at The Music Hall
DESCRIPTION:Moonage Daydream at The Music Hall\nThursday\, January 26 at 7pm\nRuntime: PG-13 • 1h 45m\nAIR will be going to see Moonage Daydream at The Music Hall! This movie is “a cinematic odyssey exploring David Bowie’s creative and musical journey. From visionary filmmaker Brett Morgen\, and sanctioned by the Bowie estate.” While this film is rated PG-13\, AIR staff have not previously viewed this film and are unsure about the nature of the content and if mature topics are featured. \n\nOpen to returning AIR Participants 14-22\nFree of charge\nTransportation assistance available if needed within the Greater Seacoast area.\nLimited spaces available!\n\nPlease email info@artsinreach.org to sign up\, and submit a 2022-2023 Registration Form if you have not already.
URL:https://artsinreach.org/event/moonage-daydream-at-the-music-hall/
LOCATION:The Music Hall\, 28 Chestnut St\, Portsmouth\, NH\, 03802\, United States
CATEGORIES:Advance on AIR,AIR Artists
ATTACH;FMTTYPE=image/png:https://artsinreach.org/wp-content/uploads/2023/01/blog.png
END:VEVENT
BEGIN:VEVENT
DTSTART;TZID=UTC:20221105T100000
DTEND;TZID=UTC:20221105T120000
DTSTAMP:20260421T063152
CREATED:20220914T224002Z
LAST-MODIFIED:20221013T194627Z
UID:10000351-1667642400-1667649600@artsinreach.org
SUMMARY:Bead Bling! *Program Full - Waitlist Available*
DESCRIPTION:Bead Bling! | Returning AIR Participants Ages 14-22\nSaturday\, November 5th in Dover\, NH\n10am-12pm\nUse beads and other odds and ends to create one-of-a-kind\, all-gender accessories to complement your “lewk”! \n\nOpen to returning AIR participants ages 14-22 of all artistic abilities and skills\nFree of charge\nTransportation assistance available if needed within the Greater Seacoast area.\nLimited spaces available!\n\nPlease email info@artsinreach.org to sign up\, and submit a 2022-2023 Registration Form if you have not already.
URL:https://artsinreach.org/event/bead-bling/
LOCATION:Dover\, NH\, Dover\, NH\, United States
CATEGORIES:Advance on AIR,AIR Artists,AIR Workshops
ATTACH;FMTTYPE=image/png:https://artsinreach.org/wp-content/uploads/2022/09/blog-11.png
ORGANIZER;CN="Arts in Reach":MAILTO:info@artsinreach.org
END:VEVENT
BEGIN:VEVENT
DTSTART;TZID=UTC:20220917T113000
DTEND;TZID=UTC:20220917T160000
DTSTAMP:20260421T063152
CREATED:20220827T002225Z
LAST-MODIFIED:20220827T003113Z
UID:10000349-1663414200-1663430400@artsinreach.org
SUMMARY:The Adventures of Sleepyhead
DESCRIPTION:Field Trip to See Gemma Soldati’s The Adventures of Sleepyhead\nSaturday\, September 17 at 1pm\nWe’re going on a special field trip to see Gemma Soldati perform her original show The Adventures of Sleepyhead!\n\n\nOpen to returning AIR participants ages 14+\nFree of charge\nTransportation assistance available if needed\nLimited spaces available!\n\nPlease email haley@artsinreach.org for more information and to sign up. Remember to submit a 2022-2023 Registration Form if you have not already.
URL:https://artsinreach.org/event/sleepyhead/
LOCATION:Concord\, NH
CATEGORIES:Advance on AIR,AIR Artists,AIR Workshops
ATTACH;FMTTYPE=image/png:https://artsinreach.org/wp-content/uploads/2022/08/blog-8.png
ORGANIZER;CN="Arts in Reach":MAILTO:info@artsinreach.org
END:VEVENT
BEGIN:VEVENT
DTSTART;TZID=UTC:20220411T160000
DTEND;TZID=UTC:20220411T173000
DTSTAMP:20260421T063152
CREATED:20220201T044208Z
LAST-MODIFIED:20220201T044336Z
UID:10000304-1649692800-1649698200@artsinreach.org
SUMMARY:Creative Coworking
DESCRIPTION:Join us on Zoom from 4-5:30pm to work on homework or your own creative projects with a safe\, accepting community. Get feedback\, talk through ideas\, and chat in real time with peers and compassionate adults.  \nThis drop-in style opportunity is is open to AIR Artists and alumnae and is free of charge. \nEmail info@artsinreach.org to sign up!  \n 
URL:https://artsinreach.org/event/creative-coworking-2/2022-04-11/
LOCATION:Remote
CATEGORIES:Advance on AIR,AIR Artists,AIR Workshops
ATTACH;FMTTYPE=image/png:https://artsinreach.org/wp-content/uploads/2022/01/Featured-Image-for-Wordpress.png
ORGANIZER;CN="Arts in Reach":MAILTO:info@artsinreach.org
END:VEVENT
BEGIN:VEVENT
DTSTART;VALUE=DATE:20220401
DTEND;VALUE=DATE:20220402
DTSTAMP:20260421T063152
CREATED:20211124T225321Z
LAST-MODIFIED:20220308T215129Z
UID:10000285-1648771200-1648857599@artsinreach.org
SUMMARY:Small Mouth Sounds
DESCRIPTION:For: Advance on AIR participants \nWe’re going to the theatre! Join us to watch Bess Wohl’s quirky new dramedy Small Mouth Sounds. In this play\, six runaways from city life embark on a silent retreat in the woods. Filled with awkward humor\, this strange and compassionate new script asks how we address life’s biggest questions when words fail us.  \nLocation: New Hampshire Theatre Project
URL:https://artsinreach.org/event/small-mouth-sounds/
LOCATION:Portsmouth\, NH
CATEGORIES:Advance on AIR
ATTACH;FMTTYPE=image/jpeg:https://artsinreach.org/wp-content/uploads/2021/11/event-feature-images_small-mouth-sounds.jpg
ORGANIZER;CN="Arts in Reach":MAILTO:info@artsinreach.org
END:VEVENT
BEGIN:VEVENT
DTSTART;TZID=UTC:20220327T140000
DTEND;TZID=UTC:20220327T160000
DTSTAMP:20260421T063152
CREATED:20220225T215723Z
LAST-MODIFIED:20220225T220319Z
UID:10000324-1648389600-1648396800@artsinreach.org
SUMMARY:Writers Workshop: Comedy Writing
DESCRIPTION:Do you love to make people laugh? Do you have funny stories to tell? In this workshop you will develop your comedic voice by learning about long form comedy storytelling and the art of crafting words into jokes. Harness your power of words and comedy into one with the help of local comedian Betsy Cameron! \n\nOpen to girls and gender expansive youth ages 14+\nFree of charge\nAIR can assist with transportation\nProgram held with Covid safety guidelines in place\n\nProgram takes place Sunday\, March 27th from 2-4pm in Somersworth\, NH. \nEmail info@artsinreach.org to sign up! Remember to submit a registration form if you have not already.
URL:https://artsinreach.org/event/writers-workshop-comedy-writing/
LOCATION:Somersworth\, NH
CATEGORIES:Advance on AIR,AIR Artists,AIR Workshops
ATTACH;FMTTYPE=image/png:https://artsinreach.org/wp-content/uploads/2022/02/Featured-Image-for-Wordpress-3.png
ORGANIZER;CN="Arts in Reach":MAILTO:info@artsinreach.org
END:VEVENT
BEGIN:VEVENT
DTSTART;TZID=UTC:20211213T160000
DTEND;TZID=UTC:20211213T173000
DTSTAMP:20260421T063152
CREATED:20211124T223816Z
LAST-MODIFIED:20211211T002931Z
UID:10000284-1639411200-1639416600@artsinreach.org
SUMMARY:Creative Coworking
DESCRIPTION:For: Advance on AIR participants \nDescription: Feel like working on your homework or creative projects alongside a safe\, accepting group? Creative Coworking brings together teens and AIR community members informally online to talk\, share ideas and feedback \nLocation: Zoom
URL:https://artsinreach.org/event/creative-coworking/
LOCATION:Remote
CATEGORIES:Advance on AIR
ATTACH;FMTTYPE=image/jpeg:https://artsinreach.org/wp-content/uploads/2021/11/program-hero_creative-coworking.jpg
ORGANIZER;CN="Arts in Reach":MAILTO:info@artsinreach.org
END:VEVENT
END:VCALENDAR